BEGIN:VCALENDAR
VERSION:2.0
PRODID:-//Intelleto - ECPv6.15.20//NONSGML v1.0//EN
CALSCALE:GREGORIAN
METHOD:PUBLISH
X-WR-CALNAME:Intelleto
X-ORIGINAL-URL:https://intelleto.com
X-WR-CALDESC:Events for Intelleto
REFRESH-INTERVAL;VALUE=DURATION:PT1H
X-Robots-Tag:noindex
X-PUBLISHED-TTL:PT1H
BEGIN:VTIMEZONE
TZID:America/Los_Angeles
BEGIN:DAYLIGHT
TZOFFSETFROM:-0800
TZOFFSETTO:-0700
TZNAME:PDT
DTSTART:20250309T100000
END:DAYLIGHT
BEGIN:STANDARD
TZOFFSETFROM:-0700
TZOFFSETTO:-0800
TZNAME:PST
DTSTART:20251102T090000
END:STANDARD
BEGIN:DAYLIGHT
TZOFFSETFROM:-0800
TZOFFSETTO:-0700
TZNAME:PDT
DTSTART:20260308T100000
END:DAYLIGHT
BEGIN:STANDARD
TZOFFSETFROM:-0700
TZOFFSETTO:-0800
TZNAME:PST
DTSTART:20261101T090000
END:STANDARD
BEGIN:DAYLIGHT
TZOFFSETFROM:-0800
TZOFFSETTO:-0700
TZNAME:PDT
DTSTART:20270314T100000
END:DAYLIGHT
BEGIN:STANDARD
TZOFFSETFROM:-0700
TZOFFSETTO:-0800
TZNAME:PST
DTSTART:20271107T090000
END:STANDARD
END:VTIMEZONE
BEGIN:VEVENT
DTSTART;TZID=America/Los_Angeles:20260419T100000
DTEND;TZID=America/Los_Angeles:20260419T113000
DTSTAMP:20260419T072841
CREATED:20260323T185809Z
LAST-MODIFIED:20260323T215721Z
UID:3153-1776592800-1776598200@intelleto.com
SUMMARY:Sketch & Scribe ~ a practical workshop with Kate Rutter & Krissy Kludt
DESCRIPTION:Come outside and play! \nRegister on Eventbrite \nJoin this interactive session to refresh\, to renew\, and to revel in nature as you explore how word and image can deepen our connection with the natural world. \nIn this guided workshop\, we’ll use poetry and sketches to open our senses and to engage with the outdoors in personal and imaginative ways. You’ll use simple prompts for poetic writing\, practice markmaking and drawing to see more deeply\, and explore how combining word and image can amplify your connection to the nuance and beauty of this wild Earth. There will be opportunities to share your work (if desired)\, to ask questions\, and to have quiet time in nature. \nYou’ll leave with a collection of generative writings and drawings\, as well as a more refined piece: a personal Calling Card to nature that records and celebrates your experience. \nEach participant receives two books as part of the registration fee. \n\nI Could Walk Forever and Know So Little: Krissy’s debut poetry collection published by Green Writers Press in March of 2026.\nBay Area Botanical\, a full-color illustrated guide that introduces 26 plants native to the Bay Area of California\, published in December 2025.\nThe authors will be available to sign their books\, if desired.\n\nNo experience necessary; all are welcome! \nGood to know \n\nThe event takes place outside in the light and air of Point Molate\, a nature reserve tucked into the North side of the San Francisco Bay\, with wonderful views of the Bay and the Richmond Bridge.\nThis small-group experience has only 17 spots available.\nPlease bring a water bottle and a chair\, blanket\, or pad to sit on\, and dress appropriately for the weather (bring an umbrella in case it’s rainy.)\nWe recommend sun protection\, bug spray\, and closed-toe shoes\, no flip-flops.\nRestrooms (accessible Porta potties) are available on site\, but no potable water.\nYou may wish to bring a snack or lunch and enjoy exploring the area after the session.\n\nPlease bring: \n\nWriting materials (pen or pencil; paper\, journal\, or sketchbook)\nA chair\, blanket\, or pad to sit on\nWalking shoes\nWeather-appropriate clothing\nAn umbrella if it’s rainy!\nWater and snacks as needed\nFeel free to bring your fave materials for writing/drawing/sketching outdoors.\nYour enthusiasm and energy\n\nSee you there!
URL:https://intelleto.com/event/sketch-scribe-a-practical-workshop-with-kate-rutter-krissy-kludt/
LOCATION:Point Molate\, Point Molate Beach Park\, Richmond\, CA\, 94801\, United States
CATEGORIES:Single session
ATTACH;FMTTYPE=image/jpeg:https://intelleto.com/wp-content/uploads/2026/03/Eventbrite-Header-Krissy-Kate-scaled.jpg
END:VEVENT
END:VCALENDAR